BEGIN:VCALENDAR
VERSION:2.0
PRODID:spatie/icalendar-generator
DESCRIPTION:Events from South Florida Heat Elite Travel Basketball
X-WR-CALDESC:Events from South Florida Heat Elite Travel Basketball
REFRESH-INTERVAL;VALUE=DURATION:PT1440M
X-PUBLISHED-TTL:PT1440M
BEGIN:VTIMEZONE
TZID:America/New_York
BEGIN:STANDARD
DTSTART:20171105T020000Z
TZOFFSETFROM:-0400
TZOFFSETTO:-0500
END:STANDARD
BEGIN:DAYLIGHT
DTSTART:20180311T020000Z
TZOFFSETFROM:-0500
TZOFFSETTO:-0400
END:DAYLIGHT
END:VTIMEZONE
BEGIN:VTIMEZONE
TZID:UTC
BEGIN:STANDARD
DTSTART:20250727T142155Z
TZOFFSETFROM:+0000
TZOFFSETTO:+0000
END:STANDARD
END:VTIMEZONE
BEGIN:VEVENT
UID:2479-120
DTSTAMP:20260423T142155Z
SUMMARY:Heat Elite 8th\, 9th and 10th Grade Practice (6:30PM - 8:00PM) at H
 CS
LOCATION:Hollywood Christian School 1708 N State Road 7  Hollywood FL 33021
ORGANIZER;CN=Eugene Snell:MAILTO:sflybasketball@gmail.com
RRULE:FREQ=WEEKLY;COUNT=20
DTSTART;TZID=America/New_York:20180126T183000
DTEND;TZID=America/New_York:20180126T200000
X-ALT-DESC;FMTTYPE=TEXT/HTML:
CATEGORIES:General
URL;VALUE=URI:https://sflheatelite.com/mc-events/heat-elite-8th-9th-and-10t
 h-grade-practice-630pm-800pm-at-hcs-2/?mc_id=2479
METHOD:PUBLISH
END:VEVENT
END:VCALENDAR